BEGIN:VCALENDAR
VERSION:2.0
PRODID:-//담스테크 - ECPv5.16.2.1//NONSGML v1.0//EN
CALSCALE:GREGORIAN
METHOD:PUBLISH
X-WR-CALNAME:담스테크
X-ORIGINAL-URL:https://dymstec.com
X-WR-CALDESC:담스테크 이벤트
BEGIN:VTIMEZONE
TZID:Asia/Seoul
BEGIN:STANDARD
TZOFFSETFROM:+0900
TZOFFSETTO:+0900
TZNAME:KST
DTSTART:20260101T000000
END:STANDARD
END:VTIMEZONE
BEGIN:VEVENT
DTSTART;TZID=Asia/Seoul:20260805T100000
DTEND;TZID=Asia/Seoul:20260805T170000
DTSTAMP:20260420T104359
CREATED:20260325T014020Z
LAST-MODIFIED:20260325T014020Z
UID:16075-1785924000-1785949200@dymstec.com
SUMMARY:Sim4Life - 열해석 교육
DESCRIPTION:프로그램 안내\n치료 목적의 의료기기 설계와\, 열에 대한 Safety 해석에 관심있는 모든 분 \n\n\n교육비\n개인/기업/정부기관 고객\n\n유지보수 고객 : 무상\n미 유지보수 고객 : 240\,000원 / 1일\n일반 고객 : 480\,000원 / 1일\n\n대학교\n\n유지보수 대학교 : 무상\n미 유지보수 대학교 : 140\,000원 / 1일\n일반 대학교 : 240\,000원 / 1일\n\n\n\n보증금 안내\n\n교육 전 보증금(50\,000원)을 입금하시면 교육 참석 시 현장에서 반환 예정\n기한 : 7월 17일(금)\n계좌 : KEB하나은행(구 외환은행) 433-890008-54504 (예금주: (주)담스테크)\n– 입금자명은 반드시 교육에 참여하시는 분의 이름으로 작성하여 주시기 바랍니다.\n보증금 납입 후 e-mail(med@dymstec.com)로 입금내역 확인\n보증금 반환 안내\n– 8/5 (수) 신청자 : 8월 5일 현장에서 50\,000원 반환\n– 8/5 (수)~ 8/6 (목) 신청자 : 8월 6일 현장에서 50\,000원 반환\n– 8/5 (수)~ 8/7 (금) 신청자 : 8월 7일 현장에서 50\,000원 반환\n\n\n\n등록안내\n\n계산서 발행을 원하시는 경우\, 메일(med@dymstec.com)로 사업자등록증 제출\n당일 카드 결제 가능(BC와 신한카드에 한함) : 카드 결제를 원하시는 경우\, 메일(med@dymstec.com)로 사전 확인 필요 (수강자\, 교육명\, 카드사 기재)\n유지보수 고객 확인은 med@dymstec.com으로 문의 주시기 바랍니다\n\n\n\n\n\n주차안내\n\n건물 내 주차 시\, 최대 4시간 무료 주차 지원\n당일권 구매할 경우\, 10\,000원에 구매 가능\n\n\n\n프로그램 일정\n2026-08-05 일정 (수요일)\n\n\n\n시간\n내용\n강사\n\n\n\n\n10:00 – 10:30\n\nSim4Life 소개\n\nSim4Life Application\nFeatures of Latest Sim4Life\n\n\n김인하 대리\n\n\n10:30 – 11:00\n\nSim4Life Environment\n\nWorkflow\nBasic Model Manipulation\n\n\n김인하 대리\n\n\n11:00 – 12:00\n\nPractice 1-1. Electrode를 활용한 Hyperthermia 해석\n\nElectro QS Solver 사용\nElectrode\, GND\, Tumor\, 간이 팬텀 모델링\nEM 결과 확인\n\n\n\n\n\n김인하 대리\n\n\n12:00 – 13:00\n\n점심 식사\n\n\n\n\n13:00 – 13:30\n\nPractice 1-2. Electrode를 활용한 Hyperthermia 해석\n\nThermal Solver 사용\nEM 결과로 인한 T(t) 결과 확인\n\n\n김인하 대리\n\n\n13:30 – 14:30\n\nPractice 2. Hyperthermia with Tumor 해석\n\nEQS Solver\, Thermal Solver 사용\n간이 팬텀 내에 Tumor 위치\nEM 결과로 인한 T(t) 결과 확인\n\n\n김인하 대리\n\n\n14:30 – 17:00\n\nPractice 3. WPT 해석\n\nMSVP\, MQS\, Thermal Solver 사용\nSAM Head import/WPT Coil 모델링\nEM 결과 및 SAR 확인\nSAM Head 내외부에서 T(t) 결과 확인\n\n\n김인하 대리\n\n\n\nQ&A\n\n\n\n\n 
URL:https://dymstec.com/event/sim4life-%ec%97%b4%ed%95%b4%ec%84%9d-%ea%b5%90%ec%9c%a1-4/
LOCATION:(주)담스테크 교육실 (1108호)\, 경기도 성남시 중원구 둔촌대로 388 크란츠테크노\, 13403\, Korea\, Republic of
CATEGORIES:Sim4Life 중급,Sim4Life 초급
ORGANIZER;CN="%EC%84%9C%EB%AF%BC%EC%98%81%20%EB%8C%80%EB%A6%AC":MAILTO:med@dymstec.com
END:VEVENT
BEGIN:VEVENT
DTSTART;TZID=Asia/Seoul:20260806T100000
DTEND;TZID=Asia/Seoul:20260806T170000
DTSTAMP:20260420T104359
CREATED:20260325T014823Z
LAST-MODIFIED:20260325T014823Z
UID:16077-1786010400-1786035600@dymstec.com
SUMMARY:Sim4Life - MRI Implant(Stent) safety 교육
DESCRIPTION:프로그램 안내\nPassive Implant device(Stent) 설계와 그에 대한 MR환경에서의 Human safety 에 관심있는 모든 분\, \n이번 교육은 RF Heating을 ASTM phantom과 Ella model 을 적용하여 온도 평가를 분석합니다. \n\n\n교육비\n개인/기업/정부기관 고객\n\n유지보수 고객 : 무상\n미 유지보수 고객 : 240\,000원 / 1일\n일반 고객 : 480\,000원 / 1일\n\n대학교\n\n유지보수 대학교 : 무상\n미 유지보수 대학교 : 140\,000원 / 1일\n일반 대학교 : 240\,000원 / 1일\n\n\n\n보증금 안내\n\n교육 전 보증금(50\,000원)을 입금하시면 교육 참석 시 현장에서 반환 예정\n기한 : 7월 17일(금)\n계좌 : KEB하나은행(구 외환은행) 433-890008-54504 (예금주: (주)담스테크)\n– 입금자명은 반드시 교육에 참여하시는 분의 이름으로 작성하여 주시기 바랍니다.\n보증금 납입 후 e-mail(med@dymstec.com)로 입금내역 확인\n보증금 반환 안내\n– 8/5 (수) 신청자 : 8월 5일 현장에서 50\,000원 반환\n– 8/5 (수)~ 8/6 (목) 신청자 : 8월 6일 현장에서 50\,000원 반환\n– 8/5 (수)~ 8/7 (금) 신청자 : 8월 7일 현장에서 50\,000원 반환\n\n\n\n등록안내\n\n계산서 발행을 원하시는 경우\, 메일(med@dymstec.com)로 사업자등록증 제출\n당일 카드 결제 가능(BC와 신한카드에 한함) : 카드 결제를 원하시는 경우\, 메일(med@dymstec.com)로 사전 확인 필요 (수강자\, 교육명\, 카드사 기재)\n유지보수 고객 확인은 med@dymstec.com으로 문의 주시기 바랍니다\n\n\n\n\n\n주차안내\n\n건물 내 주차 시\, 최대 4시간 무료 주차 지원\n당일권 구매할 경우\, 10\,000원에 구매 가능\n\n\n\n프로그램 일정\n2026-08-06 일정 (목요일)\n\n\n\n시간\n내용\n강사\n\n\n\n\n10:00 – 10:40\n\nSim4Life 소개\n\nSim4Life Application\nFeatures of Latest Sim4Life\n\n\n박진희 이사\n\n\n10:40 – 11:00\n\nSim4Life Environment\n\nWorkflow\nBasic Model Manipulation\n\n\n박진희 이사\n\n\n11:00 – 12:00\n\nPractice 1. Simple MRI Coil 해석 EM 해석\n\n3.0T Coil 사용\nB1 field\n\nPractice 2. MRI Coil with ASTM phantom EM 해석\n\n3.0T Coil 사용\nB1 field\, SAR 결과 확인\n2W/kg의 whole body SAR 파워값 확인\n\n\n박진희 이사\n\n\n12:00 – 13:00\n\n점심 식사\n\n\n\n\n13:00 – 14:30\n\nPractice 3. MRI Coil with ASTM 에서 Stent  EM/T 해석\n\nASTM 팬텀내부에 Stent 포지셔닝\nHuygens source 사용\nSAR 확인\nStent 주변의 온도 분포 확인\nStent 센터 및 엣지 포인트에서의 온도 plot\n\n\n박진희 이사\n\n\n14:30 – 16:00\n\nPractice 4. MRI Coil with Ella 에서 Stent  EM/T 해석\n\nElla 모델 & 혈관내 Stent 위치\nSAR\, 온도 확인\n\n\n박진희 이사\n\n\n16:00 – 16:50\n\nPractice 5. MRI Coil with Ella에서 Stent Worst Case EM/T 해석 (미션)\n\nElla 모델 & 근육내 Stent 위치\nSAR\, 온도 확인\n\n\n박진희 이사\n\n\n16:50 – 17:00\nQ&A\n박진희 이사\n\n\n\n 
URL:https://dymstec.com/event/sim4life-mri-implantstent-safety-%ea%b5%90%ec%9c%a1-4/
LOCATION:(주)담스테크 교육실 (1108호)\, 경기도 성남시 중원구 둔촌대로 388 크란츠테크노\, 13403\, Korea\, Republic of
CATEGORIES:Sim4Life 중급,Sim4Life 초급
ORGANIZER;CN="%EC%84%9C%EB%AF%BC%EC%98%81%20%EB%8C%80%EB%A6%AC":MAILTO:med@dymstec.com
END:VEVENT
BEGIN:VEVENT
DTSTART;TZID=Asia/Seoul:20260807T100000
DTEND;TZID=Asia/Seoul:20260807T170000
DTSTAMP:20260420T104359
CREATED:20260325T015058Z
LAST-MODIFIED:20260325T015143Z
UID:16078-1786096800-1786122000@dymstec.com
SUMMARY:Sim4Life - 전기/전류 신경자극 교육
DESCRIPTION:프로그램 안내\n전기 또는 전류에 의한 신경자극\, 또는 Sim4Life에서 신경 모델링 구현 및 신경 시뮬레이션에 대해 관심이 있으신 모든 분 \n\n\n교육비\n개인/기업/정부기관 고객\n\n유지보수 고객 : 무상\n미 유지보수 고객 : 240\,000원 / 1일\n일반 고객 : 480\,000원 / 1일\n\n대학교\n\n유지보수 대학교 : 무상\n미 유지보수 대학교 : 140\,000원 / 1일\n일반 대학교 : 240\,000원 / 1일\n\n\n\n보증금 안내\n\n교육 전 보증금(50\,000원)을 입금하시면 교육 참석 시 현장에서 반환 예정\n기한 : 7월 17일(금)\n계좌 : KEB하나은행(구 외환은행) 433-890008-54504 (예금주: (주)담스테크)\n– 입금자명은 반드시 교육에 참여하시는 분의 이름으로 작성하여 주시기 바랍니다.\n보증금 납입 후 e-mail(med@dymstec.com)로 입금내역 확인\n보증금 반환 안내\n– 8/5 (수) 신청자 : 8월 5일 현장에서 50\,000원 반환\n– 8/5 (수)~ 8/6 (목) 신청자 : 8월 6일 현장에서 50\,000원 반환\n– 8/5 (수)~ 8/7 (금) 신청자 : 8월 7일 현장에서 50\,000원 반환\n\n\n\n등록안내\n\n계산서 발행을 원하시는 경우\, 메일(med@dymstec.com)로 사업자등록증 제출\n당일 카드 결제 가능(BC와 신한카드에 한함) : 카드 결제를 원하시는 경우\, 메일(med@dymstec.com)로 사전 확인 필요 (수강자\, 교육명\, 카드사 기재)\n유지보수 고객 확인은 med@dymstec.com으로 문의 주시기 바랍니다\n\n\n\n\n\n주차안내\n\n건물 내 주차 시\, 최대 4시간 무료 주차 지원\n당일권 구매할 경우\, 10\,000원에 구매 가능\n\n\n\n프로그램 일정\n2026-08-07일정 (금요일)\n\n\n\n시간\n내용\n강사\n\n\n\n\n10:00 – 10:30\n\nSim4Life 소개\n\nSim4Life Application\nFeatures of Latest Sim4Life\n\n\n서민영 대리\n\n\n10:30 – 11:00\n\nSim4Life Environment\n\nWorkflow\nBasic Model Manipulation\n\n\n서민영 대리\n\n\n11:00 – 11:30\n\nPractice 1. Two Metallic Spheres & Monopole 해석 (EM\, Neuro)\n\nEM QS Solver \, T-Neuro 사용\nE\, D\, J\, El.loss Density\, EM Potential field 분석\nNeuron 해석\nAction Potential 결과 확인\n\n\n서민영 대리\n\n\n11:30 – 13:00\n\n점심 식사\n\n\n\n\n13:00 – 14:00\n\nPractice 2. One Neuron Stimulation with Duke 해석 (EM\, Neuro)\n\nEM QS Solver \, T-Neuro 사용\nDuke V3.x 모델 사용\n전자기 필드 해석\nNeuron 해석의 Pulse\, Action Potential\, First Spike\n\n\n서민영 대리\n\n\n14:00 – 15:30\n\nPractice 3. TI(Temporally Interfering) stimulation (전기장 자극) 해석 (EM)\n\nEM QS Solver 사용\n전자기 필드\, Modulation 해석\nMIDA V1.0 모델 사용 안내\nTIP 사용 안내\n\n\n서민영 대리\n\n\n15:30 – 17:00\n\nPractice 4.  Auto Segmentation & 10-10 system  Auto Placement & Modulation 해석 (EM)\n\nAI based Head Segmentation\, 10-10 System Auto Placement\, EM QS Solver  사용\n전자기 필드\, Modulation 해석\n\n\n서민영 대리\n\n\n\nQ&A
URL:https://dymstec.com/event/sim4life-%ec%a0%84%ea%b8%b0-%ec%a0%84%eb%a5%98-%ec%8b%a0%ea%b2%bd%ec%9e%90%ea%b7%b9-%ea%b5%90%ec%9c%a1-4/
LOCATION:(주)담스테크 교육실 (1108호)\, 경기도 성남시 중원구 둔촌대로 388 크란츠테크노\, 13403\, Korea\, Republic of
CATEGORIES:Sim4Life 중급,Sim4Life 초급
ORGANIZER;CN="%EC%84%9C%EB%AF%BC%EC%98%81%20%EB%8C%80%EB%A6%AC":MAILTO:med@dymstec.com
END:VEVENT
BEGIN:VEVENT
DTSTART;TZID=Asia/Seoul:20260917T093000
DTEND;TZID=Asia/Seoul:20260917T170000
DTSTAMP:20260420T104359
CREATED:20260107T075246Z
LAST-MODIFIED:20260107T075416Z
UID:16003-1789637400-1789664400@dymstec.com
SUMMARY:Z43 & DYMSTEC WORKSHOP 2026
DESCRIPTION:  \n  \n등록안내 \n등록비는 무료이며 9월 11일(금)까지 홈페이지를 통한 사전 등록자에 한하여 교재\, 중식\, 기념품 제공\, 경품행사가 포함됩니다. \n좌석수 제한으로 대학 소속의 경우 대학원생 이상부터 등록 가능합니다. \n\n\n\n담당자\n이명옥 대리\n\n\n전화\n031-777-8142\n\n\n팩스\n031-777-8143\n\n\n이메일\nevent@dymstec.com\n\n\n\n오시는길\n\n\n\n주소\n경기도 성남시 수정구 성남대로 1342\n\n\n지하철\n분당선 가천대역 1번 출구\n\n\n고속철도\nSRT 수서역 → 분당선 환승 → 가천대역\n\n\n버스\n일반 : 5\, 30\, 30-1\, 32\, 70\, 100\, 116\, 119\, 320\, 500-5\n지선 : 4419 / 간선 : 302\, 303\, 462\n직행 : 500-1\, 500-2\, 1117 / 광역 : 9403\n순환 : 1112\, 1650\, 8409\, 8109\n\n\n주차정보\n가천컨벤션센터 지하4층 주차장 이용 (무료)\n\n\n\n경품정보\n참석해 주신 여러분들을 위해 다양한 경품 행사가 준비되어 있습니다. 특별 경품 행사도 예정되어 있으니 많은 관심 부탁 드립니다. \n\n세부내용 \n다양하고 유익한 내용이 준비될 예정이니 많은 관심 부탁 드립니다. \n  \n 
URL:https://dymstec.com/event/z43-dymstec-workshop-2026/
LOCATION:가천컨벤션센터\, 경기도 성남시 수정구\, 복정동 성남대로 1342 가천컨벤션센터
CATEGORIES:워크숍
END:VEVENT
END:VCALENDAR